BEGIN:VCALENDAR
VERSION:2.0
PRODID:-//RMCNECA - ECPv6.15.17.1//NONSGML v1.0//EN
CALSCALE:GREGORIAN
METHOD:PUBLISH
X-WR-CALNAME:RMCNECA
X-ORIGINAL-URL:https://rmcneca.com
X-WR-CALDESC:Events for RMCNECA
REFRESH-INTERVAL;VALUE=DURATION:PT1H
X-Robots-Tag:noindex
X-PUBLISHED-TTL:PT1H
BEGIN:VTIMEZONE
TZID:America/Denver
BEGIN:DAYLIGHT
TZOFFSETFROM:-0700
TZOFFSETTO:-0600
TZNAME:MDT
DTSTART:20240310T090000
END:DAYLIGHT
BEGIN:STANDARD
TZOFFSETFROM:-0600
TZOFFSETTO:-0700
TZNAME:MST
DTSTART:20241103T080000
END:STANDARD
BEGIN:DAYLIGHT
TZOFFSETFROM:-0700
TZOFFSETTO:-0600
TZNAME:MDT
DTSTART:20250309T090000
END:DAYLIGHT
BEGIN:STANDARD
TZOFFSETFROM:-0600
TZOFFSETTO:-0700
TZNAME:MST
DTSTART:20251102T080000
END:STANDARD
BEGIN:DAYLIGHT
TZOFFSETFROM:-0700
TZOFFSETTO:-0600
TZNAME:MDT
DTSTART:20260308T090000
END:DAYLIGHT
BEGIN:STANDARD
TZOFFSETFROM:-0600
TZOFFSETTO:-0700
TZNAME:MST
DTSTART:20261101T080000
END:STANDARD
END:VTIMEZONE
BEGIN:VEVENT
DTSTART;TZID=America/Denver:20250624T070000
DTEND;TZID=America/Denver:20250624T110000
DTSTAMP:20260423T170430
CREATED:20250327T200739Z
LAST-MODIFIED:20250327T200739Z
UID:10000009-1750748400-1750762800@rmcneca.com
SUMMARY:LEVEL 100 Class: Review\, Goal Setting\, Action Planning\, and Graduation
DESCRIPTION:
URL:https://rmcneca.com/event/level-100-class-review-goal-setting-action-planning-and-graduation/
LOCATION:NECA\, 495 Unita Way\, Suite 240\, Denver\, CO\, 80230\, United States
END:VEVENT
BEGIN:VEVENT
DTSTART;TZID=America/Denver:20250624T120000
DTEND;TZID=America/Denver:20250624T150000
DTSTAMP:20260423T170430
CREATED:20250327T201048Z
LAST-MODIFIED:20250327T201048Z
UID:10000049-1750766400-1750777200@rmcneca.com
SUMMARY:LEVEL 200 Class: L2 Review\, Goal Setting\, Action Planning\, and Graduation
DESCRIPTION:
URL:https://rmcneca.com/event/level-200-class-l2-review-goal-setting-action-planning-and-graduation/
LOCATION:NECA\, 495 Unita Way\, Suite 240\, Denver\, CO\, 80230\, United States
END:VEVENT
END:VCALENDAR